BEGIN:VCALENDAR
VERSION:2.0
PRODID:-//SP Stäfa - ECPv6.15.20//NONSGML v1.0//EN
CALSCALE:GREGORIAN
METHOD:PUBLISH
X-WR-CALNAME:SP Stäfa
X-ORIGINAL-URL:https://spstaefa.ch
X-WR-CALDESC:Veranstaltungen im SP Stäfa
REFRESH-INTERVAL;VALUE=DURATION:PT1H
X-Robots-Tag:noindex
X-PUBLISHED-TTL:PT1H
BEGIN:VTIMEZONE
TZID:Europe/Zurich
BEGIN:DAYLIGHT
TZOFFSETFROM:+0100
TZOFFSETTO:+0200
TZNAME:CEST
DTSTART:20250330T010000
END:DAYLIGHT
BEGIN:STANDARD
TZOFFSETFROM:+0200
TZOFFSETTO:+0100
TZNAME:CET
DTSTART:20251026T010000
END:STANDARD
BEGIN:DAYLIGHT
TZOFFSETFROM:+0100
TZOFFSETTO:+0200
TZNAME:CEST
DTSTART:20260329T010000
END:DAYLIGHT
BEGIN:STANDARD
TZOFFSETFROM:+0200
TZOFFSETTO:+0100
TZNAME:CET
DTSTART:20261025T010000
END:STANDARD
BEGIN:DAYLIGHT
TZOFFSETFROM:+0100
TZOFFSETTO:+0200
TZNAME:CEST
DTSTART:20270328T010000
END:DAYLIGHT
BEGIN:STANDARD
TZOFFSETFROM:+0200
TZOFFSETTO:+0100
TZNAME:CET
DTSTART:20271031T010000
END:STANDARD
END:VTIMEZONE
BEGIN:VEVENT
DTSTART;TZID=Europe/Zurich:20260603T190000
DTEND;TZID=Europe/Zurich:20260603T210000
DTSTAMP:20260420T071432
CREATED:20260410T205945Z
LAST-MODIFIED:20260410T205945Z
UID:10000036-1780513200-1780520400@spstaefa.ch
SUMMARY:Mitgliederversammlung
DESCRIPTION:
URL:https://spstaefa.ch/veranstaltung/mitgliederversammlung-4/
CATEGORIES:Mitgliederversammlung
END:VEVENT
BEGIN:VEVENT
DTSTART;TZID=Europe/Zurich:20260903T190000
DTEND;TZID=Europe/Zurich:20260903T213000
DTSTAMP:20260420T071432
CREATED:20260410T210030Z
LAST-MODIFIED:20260410T210030Z
UID:10000037-1788462000-1788471000@spstaefa.ch
SUMMARY:Mitgliederversammlung
DESCRIPTION:
URL:https://spstaefa.ch/veranstaltung/mitgliederversammlung-5/
CATEGORIES:Mitgliederversammlung
END:VEVENT
BEGIN:VEVENT
DTSTART;TZID=Europe/Zurich:20260921T200000
DTEND;TZID=Europe/Zurich:20260921T220000
DTSTAMP:20260420T071432
CREATED:20251127T160805Z
LAST-MODIFIED:20251127T160805Z
UID:10000029-1790020800-1790028000@spstaefa.ch
SUMMARY:Gemeindeversammlung
DESCRIPTION:
URL:https://spstaefa.ch/veranstaltung/gemeindeversammlung-2/
LOCATION:Halle für Alle\, Rhynerstrasse 62\, Stäfa\, 8712
CATEGORIES:Gemeindeversammlung
END:VEVENT
BEGIN:VEVENT
DTSTART;TZID=Europe/Zurich:20261109T190000
DTEND;TZID=Europe/Zurich:20261109T213000
DTSTAMP:20260420T071432
CREATED:20260410T210111Z
LAST-MODIFIED:20260410T210111Z
UID:10000038-1794250800-1794259800@spstaefa.ch
SUMMARY:Mitgliederversammlung
DESCRIPTION:
URL:https://spstaefa.ch/veranstaltung/mitgliederversammlung-6/
CATEGORIES:Mitgliederversammlung
END:VEVENT
BEGIN:VEVENT
DTSTART;TZID=Europe/Zurich:20261130T200000
DTEND;TZID=Europe/Zurich:20261130T220000
DTSTAMP:20260420T071432
CREATED:20251127T161008Z
LAST-MODIFIED:20251127T161008Z
UID:10000030-1796068800-1796076000@spstaefa.ch
SUMMARY:Budgetgemeindeversammlung
DESCRIPTION:
URL:https://spstaefa.ch/veranstaltung/budgetgemeindeversammlung-3/
LOCATION:Halle für Alle\, Rhynerstrasse 62\, Stäfa\, 8712
CATEGORIES:Gemeindeversammlung
END:VEVENT
END:VCALENDAR